BEGIN:VCALENDAR
VERSION:2.0
PRODID:-//52nd District AA Central Office - ECPv6.15.17//NONSGML v1.0//EN
CALSCALE:GREGORIAN
METHOD:PUBLISH
X-WR-CALNAME:52nd District AA Central Office
X-ORIGINAL-URL:https://www.aa52centraloffice.org/wp
X-WR-CALDESC:Events for 52nd District AA Central Office
REFRESH-INTERVAL;VALUE=DURATION:PT1H
X-Robots-Tag:noindex
X-PUBLISHED-TTL:PT1H
BEGIN:VTIMEZONE
TZID:America/Los_Angeles
BEGIN:DAYLIGHT
TZOFFSETFROM:-0800
TZOFFSETTO:-0700
TZNAME:PDT
DTSTART:20240310T100000
END:DAYLIGHT
BEGIN:STANDARD
TZOFFSETFROM:-0700
TZOFFSETTO:-0800
TZNAME:PST
DTSTART:20241103T090000
END:STANDARD
BEGIN:DAYLIGHT
TZOFFSETFROM:-0800
TZOFFSETTO:-0700
TZNAME:PDT
DTSTART:20250309T100000
END:DAYLIGHT
BEGIN:STANDARD
TZOFFSETFROM:-0700
TZOFFSETTO:-0800
TZNAME:PST
DTSTART:20251102T090000
END:STANDARD
BEGIN:DAYLIGHT
TZOFFSETFROM:-0800
TZOFFSETTO:-0700
TZNAME:PDT
DTSTART:20260308T100000
END:DAYLIGHT
BEGIN:STANDARD
TZOFFSETFROM:-0700
TZOFFSETTO:-0800
TZNAME:PST
DTSTART:20261101T090000
END:STANDARD
END:VTIMEZONE
BEGIN:VEVENT
DTSTART;TZID=America/Los_Angeles:20250510T180000
DTEND;TZID=America/Los_Angeles:20250510T203000
DTSTAMP:20260423T052848
CREATED:20250208T183529Z
LAST-MODIFIED:20250208T183531Z
UID:2790-1746900000-1746909000@www.aa52centraloffice.org
SUMMARY:GTAL Pot Luck And Speaker Meeting
DESCRIPTION:Pot Luck at 6:00 \n\n\n\nSpeaker at 7pm
URL:https://www.aa52centraloffice.org/wp/event/gtal-pot-luck-and-speaker-meeting-05/
LOCATION:Orcutt Presbyterian Church\, 993 Patterson Rd\, Orcutt\, CA\, 93455\, United States
END:VEVENT
BEGIN:VEVENT
DTSTART;TZID=America/Los_Angeles:20250508T173000
DTEND;TZID=America/Los_Angeles:20250508T183000
DTSTAMP:20260423T052848
CREATED:20230902T180951Z
LAST-MODIFIED:20250208T180331Z
UID:2021-1746725400-1746729000@www.aa52centraloffice.org
SUMMARY:Santa Maria H&I Sub-Committee
DESCRIPTION:2nd Thursday of the month @ 5:30pm \n 
URL:https://www.aa52centraloffice.org/wp/event/sm-handi-05/
LOCATION:Orcutt Presbyterian Church\, 993 Patterson Rd\, Orcutt\, CA\, 93455\, United States
END:VEVENT
BEGIN:VEVENT
DTSTART;TZID=America/Los_Angeles:20250503T180000
DTEND;TZID=America/Los_Angeles:20250503T203000
DTSTAMP:20260423T052848
CREATED:20250407T163730Z
LAST-MODIFIED:20250407T164150Z
UID:2906-1746295200-1746304200@www.aa52centraloffice.org
SUMMARY:Take Your Sponsor to Dinner and Speaker Meeting
DESCRIPTION:Join us for a delicious meal and an inspiring evening! Celebrate recovery and fellowship by treating your sponsor to a night of connection and encouragement. \nYou can purchase tickets at the Central Office or anyone who is selling them! We look forward to seeing you there! \n\n\n\nMenu\n\n\n\nSpaghetti\n\n\nGarlic Bread\n\n\nSalad\n\n\nDessert
URL:https://www.aa52centraloffice.org/wp/event/take-your-sponsor-to-dinner-and-speaker-meeting/
LOCATION:Veterans’ Memorial Center\, 313 W Tunnell St\, Santa Maria\, CA\, 93458\, United States
END:VEVENT
BEGIN:VEVENT
DTSTART;TZID=America/Los_Angeles:20250503T100000
DTEND;TZID=America/Los_Angeles:20250503T110000
DTSTAMP:20260423T052848
CREATED:20250131T000322Z
LAST-MODIFIED:20250407T152800Z
UID:2674-1746266400-1746270000@www.aa52centraloffice.org
SUMMARY:52nd District Central Office Intergroup Meeting
DESCRIPTION:Meets on the first Saturday of each month at 10am \n\n\n\nZoom meeting ID 803 570 5306 \n\n\n\nPassword 805805
URL:https://www.aa52centraloffice.org/wp/event/52nd-district-intergroup-05/
END:VEVENT
END:VCALENDAR